Workbook
Name Check3: Thongtinungiven!$C$40

Sheet Thongtinungiven
A1: 1 | B1: 2 | AF1: STT | AG1: BU | AH1: Khu vực/Khối | AI1: Phòng/Ban/Chi nhánh | AL1: Đống Đa | AM1: Quan hệ KHDN Lớn | AN1: Quan hệ KHBL | AR1: AM1:AQ1
AF2: 1 | AG2: Chi nhánh | AH2: Bắc Giang | AI2: Bắc Giang | AJ2: Chi nhánh | AK2: Bắc Giang | AL2: Đông Hà Nội | AM2: Quan hệ KHDNVVN | AN2: Quan hệ KHBL | AR2: AM2:AQ2
D3: NGÂN HÀNG TMCP CÔNG THƯƠNG VIỆT NAM | AF3: 2 | AG3: Chi nhánh | AH3: Bắc Ninh | AI3: Bắc Ninh | AJ3: Chi nhánh | AK3: Bắc Ninh | AL3: Hoàng Mai | AM3: Quan hệ KHDNVVN | AN3: Quan hệ KHBL | AR3: AM3:AQ3
AF4: 3 | AG4: Chi nhánh | AH4: Bình Định | AI4: KCN Phú Tài | AJ4: Chi nhánh | AK4: Bình Định | AL4: Nam Thăng Long | AM4: Quan hệ KHDN Lớn | AN4: Quan hệ KHDN FDI | AR4: AM4:AQ4
D5: THÔNG TIN ỨNG VIÊN | AF5: 4 | AG5: Chi nhánh | AH5: Bình Thuận | AI5: Bình Thuận | AJ5: Chi nhánh | AK5: Bình Thuận | AL5: Hà Thành | AM5: Quan hệ KHBL | AN5: Giao dịch viên | AR5: AM5:AQ5
AF6: 5 | AG6: Chi nhánh | AH6: Cà Mau | AI6: Cà Mau | AJ6: Chi nhánh | AK6: Cà Mau | AL6: Thành An | AM6: Quan hệ KHDNVVN | AN6: Quan hệ KHBL | AO6: Giao dịch viên | AR6: AM6:AQ6
E7: Đơn vị | G7: Chi nhánh | AF7: 6 | AG7: Chi nhánh | AH7: Cần Thơ | AI7: Cần Thơ | AJ7: Chi nhánh | AK7: Cần Thơ | AL7: Quang Trung | AM7: Quan hệ KHDN Lớn | AN7: Quan hệ KHBL | AO7: Giao dịch viên | AR7: AM7:AQ7
AF8: 7 | AG8: Chi nhánh | AH8: Cần Thơ | AI8: Tây Đô | AJ8: Chi nhánh | AK8: Cao Bằng | AL8: Lê Chân | AM8: Quan hệ KHDN FDI | AR8: AM8:AQ8
E9: Cụm/ Khối | G9: Cần Thơ | S9: x | AC9: =ADDRESS(MATCH(G7,AJ:AJ,0),37,4,TRUE,)&":"&ADDRESS(MATCH(G7,AJ:AJ,0)+COUNTIF(AJ:AJ,$G$7)-1,37,4,TRUE,) -> AK2:AK30 | AF9: 8 | AG9: Chi nhánh | AH9: Cao Bằng | AI9: Cao Bằng | AJ9: Chi nhánh | AK9: Đăk Lăk | AL9: Ngô Quyền | AM9: Quan hệ KHDN FDI | AR9: AM9:AQ9
AF10: 9 | AG10: Chi nhánh | AH10: Đăk Lăk | AI10: Đắc Lắc | AJ10: Chi nhánh | AK10: Đăk Nông | AL10: Lai Châu | AM10: Quan hệ KHDNVVN | AN10: Quan hệ KHBL | AO10: Điện toán | AR10: AM10:AQ10
E11: Chi nhánh/ Phòng | G11: Tây Đô | S11: x | AC11: =ADDRESS(MATCH(G9,AH:AH,0),35,4,TRUE,)&":"&ADDRESS(MATCH(G9,AH:AH,0)+COUNTIF(AH:AH,$G$9)-1,35,4,TRUE,) -> AI7:AI8 | AF11: 10 | AG11: Chi nhánh | AH11: Đăk Nông | AI11: Đắk Nông | AJ11: Chi nhánh | AK11: Đồng Nai | AL11: Cao Bằng | AM11: Quan hệ KHDNVVN | AN11: Quan hệ KHBL | AR11: AM11:AQ11
AF12: 11 | AG12: Chi nhánh | AH12: Đồng Nai | AI12: Đồng Nai | AJ12: Chi nhánh | AK12: Đồng Tháp | AL12: Sơn La | AM12: Quan hệ KHDNVVN | AN12: Quan hệ KHBL | AO12: Giao dịch viên | AR12: AM12:AQ12
AF13: 12 | AG13: Chi nhánh | AH13: Đồng Tháp | AI13: Đồng Tháp | AJ13: Chi nhánh | AK13: Hà Giang | AL13: Hà Giang | AM13: Quan hệ KHDNVVN | AN13: Quan hệ KHBL | AO13: Giao dịch viên | AR13: AM13:AQ13
E14: Vị trí ưu tiên - Nguyện vọng 1 | S14: x | AC14: =VLOOKUP(G11,AL1:AR38,7,0) -> AM36:AQ36 | AF14: 13 | AG14: Chi nhánh | AH14: Hà Giang | AI14: Hà Giang | AJ14: Chi nhánh | AK14: Hà Nội - Khu vực 1 | AL14: Phú Thọ | AM14: Quan hệ KHDN Lớn | AN14: Giao dịch viên | AR14: AM14:AQ14
AF15: 14 | AG15: Chi nhánh | AH15: Hà Nội - Khu vực 1 | AI15: Đống Đa | AJ15: Chi nhánh | AK15: Hà Nội - Khu vực 2 | AL15: Bắc Giang | AM15: Quan hệ KHBL | AR15: AM15:AQ15
E16: Vị trí ưu tiên - Nguyện vọng 2 | AF16: 15 | AG16: Chi nhánh | AH16: Hà Nội - Khu vực 2 | AI16: Đông Hà Nội | AJ16: Chi nhánh | AK16: Hà Nội - Khu vực 3 | AL16: Bắc Ninh | AM16: Quan hệ KHDNVVN | AN16: Quan hệ KHBL | AO16: Giao dịch viên | AR16: AM16:AQ16
O17: (* Thông tin bắt buộc cập nhật) | AF17: 16 | AG17: Chi nhánh | AH17: Hà Nội - Khu vực 2 | AI17: Hoàng Mai | AJ17: Chi nhánh | AK17: Hải Dương - Cụm 1 | AL17: Cẩm Phả | AM17: Quan hệ KHDNVVN | AN17: Quan hệ KHBL | AR17: AM17:AQ17
C18: THÔNG TIN CÁ NHÂN | AF18: 17 | AG18: Chi nhánh | AH18: Hà Nội - Khu vực 2 | AI18: Nam Thăng Long | AJ18: Chi nhánh | AK18: Hải Dương - Cụm 2 | AL18: Uông Bí | AM18: Quan hệ KHBL | AR18: AM18:AQ18
AF19: 18 | AG19: Chi nhánh | AH19: Hà Nội - Khu vực 2 | AI19: Hà Thành | AJ19: Chi nhánh | AK19: Hải Phòng | AL19: Hải Dương | AM19: Quan hệ KHDN | AN19: Giao dịch viên | AR19: AM19:AQ19
C20: Họ và tên * | E20: Ngày sinh * | G20: Nơi sinh * | I20: Giới tính * | K20: Cân nặng | M20: Chiều cao | AF20: 19 | AG20: Chi nhánh | AH20: Hà Nội - Khu vực 3 | AI20: Thành An | AJ20: Chi nhánh | AK20: Lai Châu | AL20: KCN Hải Dương | AM20: Quan hệ KHDN FDI | AN20: Quan hệ KHDN | AO20: Quan hệ KHBL | AP20: Giao dịch viên | AQ20: Điện toán | AR20: AM20:AQ20
L21: kg | N21: cm | AF21: 20 | AG21: Chi nhánh | AH21: Hà Nội - Khu vực 3 | AI21: Quang Trung | AJ21: Chi nhánh | AK21: Long An | AL21: Đông Hải Dương | AM21: Quan hệ KHBL | AN21: Giao dịch viên | AR21: AM21:AQ21
AF22: 21 | AG22: Chi nhánh | AH22: Hải Dương - Cụm 1 | AI22: Hải Dương | AJ22: Chi nhánh | AK22: Nam Định | AL22: Nam Định | AM22: Quan hệ KHBL | AR22: AM22:AQ22
C23: Số CMND * | E23: Ngày cấp * | G23: Nơi cấp * | I23: Dân tộc | K23: Tình trạng hôn nhân * | AF23: 22 | AG23: Chi nhánh | AH23: Hải Dương - Cụm 1 | AI23: KCN Hải Dương | AJ23: Chi nhánh | AK23: Nghệ An | AL23: Thành phố Vinh | AM23: Quan hệ KHDNVVN | AN23: Quan hệ KHBL | AR23: AM23:AQ23
K24: Độc thân | AF24: 23 | AG24: Chi nhánh | AH24: Hải Dương - Cụm 2 | AI24: Đông Hải Dương | AJ24: Chi nhánh | AK24: Ninh Thuận | AL24: Bắc Nghệ An | AR24: AM24:AQ24
AF25: 24 | AG25: Chi nhánh | AH25: Hải Phòng | AI25: Lê Chân | AJ25: Chi nhánh | AK25: Phú Thọ | AL25: Thừa Thiên Huế | AM25: Quan hệ KHDN | AN25: Quan hệ KHBL | AO25: Giao dịch viên | AR25: AM25:AQ25
C26: Nơi đăng ký hộ khẩu thường trú * | I26: Nơi ở hiện nay * | AF26: 25 | AG26: Chi nhánh | AH26: Hải Phòng | AI26: Ngô Quyền | AJ26: Chi nhánh | AK26: Quảng Ninh | AL26: Đắc Lắc | AM26: Quan hệ KHDNVVN | AN26: Quan hệ KHBL | AO26: Giao dịch viên | AR26: AM26:AQ26
AF27: 26 | AG27: Chi nhánh | AH27: Lai Châu | AI27: Lai Châu | AJ27: Chi nhánh | AK27: Sóc Trăng | AL27: Đắk Nông | AM27: Quan hệ KHBL | AR27: AM27:AQ27
AF28: 27 | AG28: Chi nhánh | AH28: Long An | AI28: Long An | AJ28: Chi nhánh | AK28: Sơn La | AL28: KCN Phú Tài | AM28: Quan hệ KHBL | AR28: AM28:AQ28
C29: ĐT di động * | G29: Email * | K29: Trang cá nhân (Facebook/LinkedIn/...) * | AF29: 28 | AG29: Chi nhánh | AH29: Nam Định | AI29: Nam Định | AJ29: Chi nhánh | AK29: Thừa Thiên Huế | AL29: Bình Thuận | AM29: Quan hệ KHBL | AN29: Giao dịch viên | AR29: AM29:AQ29
AF30: 29 | AG30: Chi nhánh | AH30: Nghệ An | AI30: Thành phố Vinh | AJ30: Chi nhánh | AK30: TP. Hồ Chí Minh | AL30: Ninh Thuận | AM30: Quan hệ KHBL | AR30: AM30:AQ30
AF31: 30 | AG31: Chi nhánh | AH31: Nghệ An | AI31: Bắc Nghệ An | AL31: Đồng Nai | AM31: Quan hệ KHDN Lớn | AN31: Quan hệ KHDN FDI | AO31: Quan hệ KHBL | AP31: Giao dịch viên | AR31: AM31:AQ31
C32: Họ và tên người liên hệ khi cần * | E32: Mối quan hệ * | G32: ĐT di động * | K32: Email | AF32: 31 | AG32: Chi nhánh | AH32: Ninh Thuận | AI32: Ninh Thuận | AL32: Long An | AM32: Quan hệ KHBL | AN32: Giao dịch viên | AR32: AM32:AQ32
AF33: 32 | AG33: Chi nhánh | AH33: Phú Thọ | AI33: Phú Thọ | AL33: Đồng Tháp | AM33: Giao dịch viên | AR33: AM33:AQ33
AF34: 33 | AG34: Chi nhánh | AH34: Quảng Ninh | AI34: Cẩm Phả | AL34: Cần Thơ | AM34: Quan hệ KHBL | AN34: Giao dịch viên | AO34: Quan hệ KHDN | AR34: AM34:AQ34
C35: QUÁ TRÌNH ĐÀO TẠO (Từ Phổ thông trung học trở lên) | S35: Gom thông tin vào như trong báo cáo | AF35: 34 | AG35: Chi nhánh | AH35: Quảng Ninh | AI35: Uông Bí | AL35: Sóc Trăng | AM35: Quan hệ KHDNVVN | AN35: Quan hệ KHBL | AR35: AM35:AQ35
AF36: 35 | AG36: Chi nhánh | AH36: Sóc Trăng | AI36: Sóc Trăng | AL36: Tây Đô | AM36: Quan hệ KHBL | AR36: AM36:AQ36
C37: Thời gian * | E37: Trình độ * | G37: Trường Đào tạo * | I37: Chuyên ngành * | K37: Hệ đào tạo * | M37: Xếp loại * | O37: Điểm bình quân * | R37: Trung học phổ thông | AF37: 36 | AG37: Chi nhánh | AH37: Sơn La | AI37: Sơn La | AL37: Cà Mau | AM37: Quan hệ KHDN | AN37: Giao dịch viên | AO37: Điện toán | AR37: AM37:AQ37
R38: =C38&E38&G38&I38&K38&M38&O38 | AF38: 37 | AG38: Chi nhánh | AH38: Thừa Thiên Huế | AI38: Thừa Thiên Huế | AL38: Chi nhánh 5 TP HCM | AM38: Quan hệ KHBL | AN38: Giao dịch viên | AR38: AM38:AQ38
R39: =C39&E39&G39&I39&K39&M39&O39 | AF39: 38 | AG39: Chi nhánh | AH39: TP. Hồ Chí Minh | AI39: Chi nhánh 5 TP HCM
R40: =C40&E40&G40&I40&K40&M40&O40
...

Sheet Tonghop
A1: 1 | B1: =Thongtinungiven!G7 -> Chi nhánh | C1: =Thongtinungiven!G9 -> Cần Thơ | D1: =Thongtinungiven!G11 -> Tây Đô | E1: =Thongtinungiven!G14 -> 0 | F1: =Thongtinungiven!G16 -> 0 | G1: =Thongtinungiven!C21 -> 0 | H1: =Thongtinungiven!E21 -> 0 | I1: =Thongtinungiven!C24 -> 0 | J1: =Thongtinungiven!E24 -> 0 | K1: =Thongtinungiven!G24 -> 0 | L1: =Thongtinungiven!I21 -> 0 | M1: =Thongtinungiven!K21 -> 0 | N1: =Thongtinungiven!M21 -> 0 | O1: =Thongtinungiven!G30 -> 0 | P1: =Thongtinungiven!C30 -> 0 | Q1: =Thongtinungiven!T38 | R1: =Thongtinungiven!U38 | S1: =Thongtinungiven!V38 | T1: =Thongtinungiven!W38 | U1: =Thongtinungiven!X38 | V1: =Thongtinungiven!Y38 | W1: =Thongtinungiven!S52 -> - : , , - : , , - : , , - : , , - : , , - : , , - : , , - : , , - : , , - : , , | X1: =Thongtinungiven!E64 -> 0 | Y1: =Thongtinungiven!E46 -> 0 | Z1: =Thongtinungiven!K46 -> 0 | AA1: =Thongtinungiven!C33&", "&Thongtinungiven!E33&", "&Thongtinungiven!G33 -> , , | AB1: 1.Đạt

Sheet Sheet2
B2: Nam | D2: Chính quy | E2: Giỏi | F2: Đang làm | G2: Trung học phổ thông
B3: Nữ | D3: Tại chức | E3: Khá | F3: Đã chấm dứt | G3: Trung cấp
D4: Liên thông | E4: Trung bình | G4: Cao đẳng
D5: Văn bằng 2 | E5: Yếu | G5: Đại học
D6: Từ xa | G6: Thạc sỹ
D7: Vừa học vừa làm | G7: Tiến sỹ
D8: Liên kết | G8: Khác
D9: Khác
