Workbook
Name Check3: Thongtinungiven!$C$40

Sheet Thongtinungiven
A1: 1 | B1: 2 | AF1: STT | AG1: BU | AH1: Khu vực/Khối | AI1: Phòng/Ban/Chi nhánh | AL1: Đống Đa | AM1: Quan hệ KHDN Lớn | AN1: Quan hệ KHBL | AR1: AM1:AQ1
AF2: 1 | AG2: Chi nhánh | AH2: Bắc Giang | AI2: Bắc Giang | AJ2: Chi nhánh | AK2: Bắc Giang | AL2: Đông Hà Nội | AM2: Quan hệ KHDNVVN | AN2: Quan hệ KHBL | AR2: AM2:AQ2
D3: NGÂN HÀNG TMCP CÔNG THƯƠNG VIỆT NAM | AF3: 2 | AG3: Chi nhánh | AH3: Bắc Ninh | AI3: Bắc Ninh | AJ3: Chi nhánh | AK3: Bắc Ninh | AL3: Hoàng Mai | AM3: Quan hệ KHDNVVN | AN3: Quan hệ KHBL | AR3: AM3:AQ3
AF4: 3 | AG4: Chi nhánh | AH4: Bình Định | AI4: KCN Phú Tài | AJ4: Chi nhánh | AK4: Bình Định | AL4: Nam Thăng Long | AM4: Quan hệ KHDN Lớn | AN4: Quan hệ KHDN FDI | AR4: AM4:AQ4
D5: THÔNG TIN ỨNG VIÊN | AF5: 4 | AG5: Chi nhánh | AH5: Bình Thuận | AI5: Bình Thuận | AJ5: Chi nhánh | AK5: Bình Thuận | AL5: Hà Thành | AM5: Quan hệ KHBL | AN5: Giao dịch viên | AR5: AM5:AQ5
AF6: 5 | AG6: Chi nhánh | AH6: Cà Mau | AI6: Cà Mau | AJ6: Chi nhánh | AK6: Cà Mau | AL6: Thành An | AM6: Quan hệ KHDNVVN | AN6: Quan hệ KHBL | AO6: Giao dịch viên | AR6: AM6:AQ6
E7: Đơn vị | G7: Chi nhánh | AF7: 6 | AG7: Chi nhánh | AH7: Cần Thơ | AI7: Cần Thơ | AJ7: Chi nhánh | AK7: Cần Thơ | AL7: Quang Trung | AM7: Quan hệ KHDN Lớn | AN7: Quan hệ KHBL | AO7: Giao dịch viên | AR7: AM7:AQ7
AF8: 7 | AG8: Chi nhánh | AH8: Cần Thơ | AI8: Tây Đô | AJ8: Chi nhánh | AK8: Cao Bằng | AL8: Lê Chân | AM8: Quan hệ KHDN FDI | AR8: AM8:AQ8
E9: Cụm/ Khối | G9: Cần Thơ | S9: x | AC9: =ADDRESS(MATCH(G7,AJ:AJ,0),37,4,TRUE,)&":"&ADDRESS(MATCH(G7,AJ:AJ,0)+COUNTIF(AJ:AJ,$G$7)-1,37,4,TRUE,) -> AK2:AK30 | AF9: 8 | AG9: Chi nhánh | AH9: Cao Bằng | AI9: Cao Bằng | AJ9: Chi nhánh | AK9: Đăk Lăk | AL9: Ngô Quyền | AM9: Quan hệ KHDN FDI | AR9: AM9:AQ9
AF10: 9 | AG10: Chi nhánh | AH10: Đăk Lăk | AI10: Đắc Lắc | AJ10: Chi nhánh | AK10: Đăk Nông | AL10: Lai Châu | AM10: Quan hệ KHDNVVN | AN10: Quan hệ KHBL | AO10: Điện toán | AR10: AM10:AQ10
E11: Chi nhánh/ Phòng | G11: Tây Đô | S11: x | AC11: =ADDRESS(MATCH(G9,AH:AH,0),35,4,TRUE,)&":"&ADDRESS(MATCH(G9,AH:AH,0)+COUNTIF(AH:AH,$G$9)-1,35,4,TRUE,) -> AI7:AI8 | AF11: 10 | AG11: Chi nhánh | AH11: Đăk Nông | AI11: Đắk Nông | AJ11: Chi nhánh | AK11: Đồng Nai | AL11: Cao Bằng | AM11: Quan hệ KHDNVVN | AN11: Quan hệ KHBL | AR11: AM11:AQ11
AF12: 11 | AG12: Chi nhánh | AH12: Đồng Nai | AI12: Đồng Nai | AJ12: Chi nhánh | AK12: Đồng Tháp | AL12: Sơn La | AM12: Quan hệ KHDNVVN | AN12: Quan hệ KHBL | AO12: Giao dịch viên | AR12: AM12:AQ12
AF13: 12 | AG13: Chi nhánh | AH13: Đồng Tháp | AI13: Đồng Tháp | AJ13: Chi nhánh | AK13: Hà Giang | AL13: Hà Giang | AM13: Quan hệ KHDNVVN | AN13: Quan hệ KHBL | AO13: Giao dịch viên | AR13: AM13:AQ13
E14: Vị trí ưu tiên - Nguyện vọng 1 | S14: x | AC14: =VLOOKUP(G11,AL1:AR38,7,0) -> AM36:AQ36 | AF14: 13 | AG14: Chi nhánh | AH14: Hà Giang | AI14: Hà Giang | AJ14: Chi nhánh | AK14: Hà Nội - Khu vực 1 | AL14: Phú Thọ | AM14: Quan hệ KHDN Lớn | AN14: Giao dịch viên | AR14: AM14:AQ14
AF15: 14 | AG15: Chi nhánh | AH15: Hà Nội - Khu vực 1 | AI15: Đống Đa | AJ15: Chi nhánh | AK15: Hà Nội - Khu vực 2 | AL15: Bắc Giang | AM15: Quan hệ KHBL | AR15: AM15:AQ15
E16: Vị trí ưu tiên - Nguyện vọng 2 | AF16: 15 | AG16: Chi nhánh | AH16: Hà Nội - Khu vực 2 | AI16: Đông Hà Nội | AJ16: Chi nhánh | AK16: Hà Nội - Khu vực 3 | AL16: Bắc Ninh | AM16: Quan hệ KHDNVVN | AN16: Quan hệ KHBL | AO16: Giao dịch viên | AR16: AM16:AQ16
O17: (* Thông tin bắt buộc cập nhật) | AF17: 16 | AG17: Chi nhánh | AH17: Hà Nội - Khu vực 2 | AI17: Hoàng Mai | AJ17: Chi nhánh | AK17: Hải Dương - Cụm 1 | AL17: Cẩm Phả | AM17: Quan hệ KHDNVVN | AN17: Quan hệ KHBL | AR17: AM17:AQ17
C18: THÔNG TIN CÁ NHÂN | AF18: 17 | AG18: Chi nhánh | AH18: Hà Nội - Khu vực 2 | AI18: Nam Thăng Long | AJ18: Chi nhánh | AK18: Hải Dương - Cụm 2 | AL18: Uông Bí | AM18: Quan hệ KHBL | AR18: AM18:AQ18
AF19: 18 | AG19: Chi nhánh | AH19: Hà Nội - Khu vực 2 | AI19: Hà Thành | AJ19: Chi nhánh | AK19: Hải Phòng | AL19: Hải Dương | AM19: Quan hệ KHDN | AN19: Giao dịch viên | AR19: AM19:AQ19
C20: Họ và tên * | E20: Ngày sinh * | G20: Nơi sinh * | I20: Giới tính * | K20: Cân nặng | M20: Chiều cao | AF20: 19 | AG20: Chi nhánh | AH20: Hà Nội - Khu vực 3 | AI20: Thành An | AJ20: Chi nhánh | AK20: Lai Châu | AL20: KCN Hải Dương | AM20: Quan hệ KHDN FDI | AN20: Quan hệ KHDN | AO20: Quan hệ KHBL | AP20: Giao dịch viên | AQ20: Điện toán | AR20: AM20:AQ20
L21: kg | N21: cm | AF21: 20 | AG21: Chi nhánh | AH21: Hà Nội - Khu vực 3 | AI21: Quang Trung | AJ21: Chi nhánh | AK21: Long An | AL21: Đông Hải Dương | AM21: Quan hệ KHBL | AN21: Giao dịch viên | AR21: AM21:AQ21
AF22: 21 | AG22: Chi nhánh | AH22: Hải Dương - Cụm 1 | AI22: Hải Dương | AJ22: Chi nhánh | AK22: Nam Định | AL22: Nam Định | AM22: Quan hệ KHBL | AR22: AM22:AQ22
C23: Số CMND * | E23: Ngày cấp * | G23: Nơi cấp * | I23: Dân tộc | K23: Tình trạng hôn nhân * | AF23: 22 | AG23: Chi nhánh | AH23: Hải Dương - Cụm 1 | AI23: KCN Hải Dương | AJ23: Chi nhánh | AK23: Nghệ An | AL23: Thành phố Vinh | AM23: Quan hệ KHDNVVN | AN23: Quan hệ KHBL | AR23: AM23:AQ23
K24: Độc thân | AF24: 23 | AG24: Chi nhánh | AH24: Hải Dương - Cụm 2 | AI24: Đông Hải Dương | AJ24: Chi nhánh | AK24: Ninh Thuận | AL24: Bắc Nghệ An | AR24: AM24:AQ24
AF25: 24 | AG25: Chi nhánh | AH25: Hải Phòng | AI25: Lê Chân | AJ25: Chi nhánh | AK25: Phú Thọ | AL25: Thừa Thiên Huế | AM25: Quan hệ KHDN | AN25: Quan hệ KHBL | AO25: Giao dịch viên | AR25: AM25:AQ25
C26: Nơi đăng ký hộ khẩu thường trú * | I26: Nơi ở hiện nay * | AF26: 25 | AG26: Chi nhánh | AH26: Hải Phòng | AI26: Ngô Quyền | AJ26: Chi nhánh | AK26: Quảng Ninh | AL26: Đắc Lắc | AM26: Quan hệ KHDNVVN | AN26: Quan hệ KHBL | AO26: Giao dịch viên | AR26: AM26:AQ26
AF27: 26 | AG27: Chi nhánh | AH27: Lai Châu | AI27: Lai Châu | AJ27: Chi nhánh | AK27: Sóc Trăng | AL27: Đắk Nông | AM27: Quan hệ KHBL | AR27: AM27:AQ27
AF28: 27 | AG28: Chi nhánh | AH28: Long An | AI28: Long An | AJ28: Chi nhánh | AK28: Sơn La | AL28: KCN Phú Tài | AM28: Quan hệ KHBL | AR28: AM28:AQ28
C29: ĐT di động * | G29: Email * | K29: Trang cá nhân (Facebook/LinkedIn/...) * | AF29: 28 | AG29: Chi nhánh | AH29: Nam Định | AI29: Nam Định | AJ29: Chi nhánh | AK29: Thừa Thiên Huế | AL29: Bình Thuận | AM29: Quan hệ KHBL | AN29: Giao dịch viên | AR29: AM29:AQ29
AF30: 29 | AG30: Chi nhánh | AH30: Nghệ An | AI30: Thành phố Vinh | AJ30: Chi nhánh | AK30: TP. Hồ Chí Minh | AL30: Ninh Thuận | AM30: Quan hệ KHBL | AR30: AM30:AQ30
AF31: 30 | AG31: Chi nhánh | AH31: Nghệ An | AI31: Bắc Nghệ An | AL31: Đồng Nai | AM31: Quan hệ KHDN Lớn | AN31: Quan hệ KHDN FDI | AO31: Quan hệ KHBL | AP31: Giao dịch viên | AR31: AM31:AQ31
C32: Họ và tên người liên hệ khi cần * | E32: Mối quan hệ * | G32: ĐT di động * | K32: Email | AF32: 31 | AG32: Chi nhánh | AH32: Ninh Thuận | AI32: Ninh Thuận | AL32: Long An | AM32: Quan hệ KHBL | AN32: Giao dịch viên | AR32: AM32:AQ32
AF33: 32 | AG33: Chi nhánh | AH33: Phú Thọ | AI33: Phú Thọ | AL33: Đồng Tháp | AM33: Giao dịch viên | AR33: AM33:AQ33
AF34: 33 | AG34: Chi nhánh | AH34: Quảng Ninh | AI34: Cẩm Phả | AL34: Cần Thơ | AM34: Quan hệ KHBL | AN34: Giao dịch viên | AO34: Quan hệ KHDN | AR34: AM34:AQ34
C35: QUÁ TRÌNH ĐÀO TẠO (Từ Phổ thông trung học trở lên) | S35: Gom thông tin vào như trong báo cáo | AF35: 34 | AG35: Chi nhánh | AH35: Quảng Ninh | AI35: Uông Bí | AL35: Sóc Trăng | AM35: Quan hệ KHDNVVN | AN35: Quan hệ KHBL | AR35: AM35:AQ35
AF36: 35 | AG36: Chi nhánh | AH36: Sóc Trăng | AI36: Sóc Trăng | AL36: Tây Đô | AM36: Quan hệ KHBL | AR36: AM36:AQ36
C37: Thời gian * | E37: Trình độ * | G37: Trường Đào tạo * | I37: Chuyên ngành * | K37: Hệ đào tạo * | M37: Xếp loại * | O37: Điểm bình quân * | R37: Trung học phổ thông | AF37: 36 | AG37: Chi nhánh | AH37: Sơn La | AI37: Sơn La | AL37: Cà Mau | AM37: Quan hệ KHDN | AN37: Giao dịch viên | AO37: Điện toán | AR37: AM37:AQ37
R38: =C38&E38&G38&I38&K38&M38&O38 | AF38: 37 | AG38: Chi nhánh | AH38: Thừa Thiên Huế | AI38: Thừa Thiên Huế | AL38: Chi nhánh 5 TP HCM | AM38: Quan hệ KHBL | AN38: Giao dịch viên | AR38: AM38:AQ38
R39: =C39&E39&G39&I39&K39&M39&O39 | AF39: 38 | AG39: Chi nhánh | AH39: TP. Hồ Chí Minh | AI39: Chi nhánh 5 TP HCM
R40: =C40&E40&G40&I40&K40&M40&O40
R41: =C41&E41&G41&I41&K41&M41&O41
R42: =C42&E42&G42&I42&K42&M42&O42
R43: =C43&E43&G43&I43&K43&M43&O43
C46: Trình độ Tiếng Anh (Chứng chỉ C, TOEIC, TOEFL, IELTS ..) | I46: Trình độ ngoại ngữ khác | M46: Tin học văn phòng
C49: QUÁ TRÌNH CÔNG TÁC (Bắt đầu từ công việc gần đây nhất) | S49: Gom tất cả thông tin vào 1 ô trong báo cáo
C51: Thời gian * | E51: Chức danh/vị trí * | G51: Đơn vị công tác * | K51: Nhiệm vụ chính *
B52: 1 | R52: =C52&E52&G52&K52 | S52: - : , , - : , , - : , , - : , , - : , , - : , , - : , , - : , , - : , , - : , ,
B53: 2 | R53: =C53&E53&G53&K53
R54: =C54&E54&G54&K54
R55: =C55&E55&G55&K55
R56: =C56&E56&G56&K56
R57: =C57&E57&G57&K57
R58: =C58&E58&G58&K58
R59: =C59&E59&G59&K59
R60: =C60&E60&G60&K60
R61: =C61&E61&G61&K61
E63: Hiện trạng | G63: Lý do chấm dứt | M63: Mức lương
C64: Công việc gần nhất:
C66: THÔNG TIN KHÁC
C68: Kế hoạch/Mục tiêu phát triển bản thân
C71: Khen thưởng
C74: Hoạt động xã hội
C77: Kỷ luật
C80: THÔNG TIN GIA ĐÌNH (Cha mẹ, anh chị em ruột, vợ chồng, con cái)
C82: Họ và tên * | E82: Quan hệ * | G82: Năm sinh * | I82: Số điện thoại * | K82: Nghề nghiệp, nơi làm việc * | O82: Nơi ở hiện nay
C93: THÔNG TIN THAM KHẢO
C95: 1. Cung cấp tối thiểu 3 người tham khảo cùng công tác và/ hoặc biết rõ về quá trình làm việc, học tập của bạn và cho phép chúng tôi liên hệ để xác minh nhân thân trong trường hợp bạn trúng tuyển:
C97: Họ và tên * | E97: Quan hệ * | G97: Năm sinh * | I97: Số điện thoại * | K97: Email * | M97: Nghề nghiệp, nơi làm việc *
C102: 2. Cung cấp người quen/người thân hiện đang công tác trong ngành Ngân hàng- tài chính/VietinBank (nếu có) và cho phép chúng tôi liên hệ để xác minh nhân thân trong trường hợp bạn trúng tuyển:
C104: Họ và tên * | E104: Quan hệ * | G104: Năm sinh * | I104: Số điện thoại * | K104: Email * | M104: Nghề nghiệp, nơi làm việc *
C109: THÔNG TIN KHẢO SÁT (Đánh dấu "x" vào ô tương ứng)
C111: 1. Bạn biết đến thông tin tuyển dụng của VietinBank từ kênh thông tin nào?
C112: Website VietinBank | E112: Website việc làm (ghi rõ) | G112: Mạng xã hội (ghi rõ) | I112: Người quen giới thiệu | K112: Báo giấy (ghi rõ) | M112: Báo điện tử (ghi rõ) | O112: Khác (ghi rõ)
C115: 2. Xin vui lòng cho biết điều bạn quan tâm nhất khi ứng tuyển tại VietinBank:
C116: Danh tiếng | E116: Công việc ổn định | G116: Môi trường làm việc | I116: Thu nhập cao | K116: Cơ hội học hỏi, nâng cao trình độ | M116: Cơ hội thăng tiến, phát triển bản thân | O116: Khác (ghi rõ)
C119: LỊCH SỬ ỨNG TUYỂN VÀO VIETINBANK
C121: Thời gian | E121: Đợt tuyển | G121: Vị trí | I121: Đơn vị/Chi nhánh | M121: Kết quả các vòng thi
C126: Mức lương khởi điểm mong muốn tại VietinBank? | I126: Thời điểm có thể nhận việc
C129: Tôi xin cam đoan những thông tin cung cấp trên đây là trung thực và đầy đủ theo đúng thông tin và hồ sơ cá nhân. Tôi hiểu rằng mọi cố ý làm sai lệch thông tin hoặc không khai báo đúng sự thật sẽ dẫn đến việc mất quyền tham gia tuyển dụng hoặc trúng tuyển vào VietinBank (nếu có). Tôi đồng ý cho VietinBank kiểm tra lý lịch và thông tin cá nhân của tôi trước khi tuyển dụng chính thức.
L131: ……, ngày tháng năm
L132: (Ký, ghi rõ họ tên)
A174: 1 | B174: 2 | C174: 3 | D174: 4 | E174: 5 | F174: 6 | G174: 7 | H174: 8 | I174: 9 | J174: 10 | K174: 11 | L174: 12 | M174: 13 | N174: 14 | O174: 15 | P174: 16 | Q174: 17 | R174: 18 | S174: 19 | T174: 20 | U174: 21 | V174: 22 | W174: 23 | X174: 24 | Y174: 25 | Z174: 26 | AA174: 27 | AB174: 28 | AC174: 29 | AD174: 30 | AE174: 31 | AF174: 32 | AG174: 33 | AH174: 34 | AI174: 35 | AJ174: 36 | AK174: 37 | AL174: 38 | AM174: 39 | AN174: 40 | AO174: 41 | AP174: 42 | AQ174: 43 | AR174: 44 | AT174: 46 | AU174: 47 | AV174: 48 | AW174: 49 | AX174: 50 | AY174: 51 | AZ174: 52 | BA174: 53 | BB174: 54 | BC174: 55 | BD174: 56 | BE174: 57 | BF174: 58 | BG174: 59 | BH174: 60 | BI174: 61 | BJ174: 62 | BK174: 63 | BL174: 64 | BM174: 65 | BN174: 66 | BO174: 67 | BP174: 68 | BQ174: 69 | BR174: 70 | BS174: 71 | BT174: 72 | BU174: 73 | BV174: 74 | BW174: 75 | BX174: 76 | BY174: 77 | BZ174: 78 | CA174: 79 | CB174: 80 | CC174: 81 | CD174: 82 | CE174: 83 | CF174: 84 | CG174: 85 | CH174: 86 | CI174: 87 | CJ174: 88 | CK174: 89 | CL174: 90 | CM174: 91 | CN174: 92 | CO174: 93 | CP174: 94 | CQ174: 95 | CR174: 96 | CS174: 97 | CT174: 98 | CU174: 99 | CV174: 100 | CW174: 101 | CX174: 102 | CY174: 103 | CZ174: 104 | DA174: 105 | DB174: 106 | DC174: 107 | DD174: 108 | DE174: 109 | DF174: 110 | DG174: 111 | DH174: 112 | DI174: 113 | DJ174: 114 | DK174: 115 | DL174: 116 | DM174: 117 | DN174: 118 | DO174: 119 | DP174: 120 | DQ174: 121 | DR174: 122 | DS174: 123 | DT174: 124 | DU174: 125 | DV174: 126 | DW174: 127 | DX174: 128 | DY174: 129 | DZ174: 130 | EA174: 131 | EB174: 132 | EC174: 133 | ED174: 134 | EE174: 135 | EF174: 136 | EG174: 137 | EH174: 138 | EI174: 139 | EJ174: 140 | EK174: 141 | EL174: 142 | EM174: 143 | EN174: 144 | EO174: 145 | EP174: 146 | EQ174: 147 | ER174: 148 | ES174: 149 | ET174: 150 | EU174: 151 | EV174: 152 | EW174: 153 | EX174: 154 | EY174: 155 | EZ174: 156 | FA174: 157 | FB174: 158 | FC174: 159 | FD174: 160 | FE174: 161 | FF174: 162 | FG174: 163

Sheet Tonghop
A1: 1 | B1: =Thongtinungiven!G7 -> Chi nhánh | C1: =Thongtinungiven!G9 -> Cần Thơ | D1: =Thongtinungiven!G11 -> Tây Đô | E1: =Thongtinungiven!G14 -> 0 | F1: =Thongtinungiven!G16 -> 0 | G1: =Thongtinungiven!C21 -> 0 | H1: =Thongtinungiven!E21 -> 0 | I1: =Thongtinungiven!C24 -> 0 | J1: =Thongtinungiven!E24 -> 0 | K1: =Thongtinungiven!G24 -> 0 | L1: =Thongtinungiven!I21 -> 0 | M1: =Thongtinungiven!K21 -> 0 | N1: =Thongtinungiven!M21 -> 0 | O1: =Thongtinungiven!G30 -> 0 | P1: =Thongtinungiven!C30 -> 0 | Q1: =Thongtinungiven!T38 | R1: =Thongtinungiven!U38 | S1: =Thongtinungiven!V38 | T1: =Thongtinungiven!W38 | U1: =Thongtinungiven!X38 | V1: =Thongtinungiven!Y38 | W1: =Thongtinungiven!S52 -> - : , , - : , , - : , , - : , , - : , , - : , , - : , , - : , , - : , , - : , , | X1: =Thongtinungiven!E64 -> 0 | Y1: =Thongtinungiven!E46 -> 0 | Z1: =Thongtinungiven!K46 -> 0 | AA1: =Thongtinungiven!C33&", "&Thongtinungiven!E33&", "&Thongtinungiven!G33 -> , , | AB1: 1.Đạt

Sheet Sheet2
B2: Nam | D2: Chính quy | E2: Giỏi | F2: Đang làm | G2: Trung học phổ thông
B3: Nữ | D3: Tại chức | E3: Khá | F3: Đã chấm dứt | G3: Trung cấp
D4: Liên thông | E4: Trung bình | G4: Cao đẳng
D5: Văn bằng 2 | E5: Yếu | G5: Đại học
D6: Từ xa | G6: Thạc sỹ
D7: Vừa học vừa làm | G7: Tiến sỹ
D8: Liên kết | G8: Khác
D9: Khác
