Workbook
Name CDa: #REF!:INDEX(#REF!,COUNTIF(#REF!,"?*"))

Sheet HRRF02
AD1: =IF(AG1="Tiếng việt","Language:","Ngôn Ngữ:") -> Language: | AG1: Tiếng Việt
AK2: Ảnh
I3: =IF(AG1="Tiếng việt",Translate!A3,Translate!B3) -> THÔNG TIN ỨNG VIÊN
B6: =IF($AG$1="tiếng việt",Translate!A5,Translate!B5) -> * Nhập đầy đủ các thông tin trong các ô text hiển thị trên File thông tin (nếu có)
B7: =IF($AG$1="tiếng việt",Translate!A6,Translate!B6) -> * Đọc kỹ các hướng dẫn kèm theo ở mỗi câu hỏi
B8: =IF($AG$1="tiếng việt",Translate!A7,Translate!B7) -> * Không chỉnh sửa (thêm hàng, cột) File thông tin này, MB không ghi nhận những thông tin của File đã bị sửa format
B9: =IF($AG$1="tiếng việt",Translate!A8,Translate!B8) -> * Những thông tin không đầy đủ sẽ không được xét duyệt
A11: 2023 | B11: =IF($AG$1="tiếng việt",Translate!A10,Translate!B10) -> VỊ TRÍ DỰ TUYỂN
B12: =IF($AG$1="tiếng việt",Translate!A11,Translate!B11) -> Nguyện vọng 1 | P12: =IF($AG$1="tiếng việt",Translate!A12,Translate!B12) -> Nguyện vọng 2
AC13: =IF($AG$1="tiếng việt",Translate!A13,Translate!B13) -> Địa điểm làm việc
A16: 1 | B16: =IF($AG$1="tiếng việt",Translate!A14,Translate!B14) -> THÔNG TIN CÁ NHÂN
B17: =IF($AG$1="tiếng việt",Translate!A15,Translate!B15) -> Họ và tên | Q17: =IF($AG$1="tiếng việt",Translate!A18,Translate!B18) -> Ngày sinh | Y17: =IF($AG$1="tiếng việt",Translate!A19,Translate!B19) -> Giới tính | AG17: =IF($AG$1="tiếng việt",Translate!A20,Translate!B20) -> Chiều cao (cm) | AM17: =IF($AG$1="tiếng việt",Translate!A21,Translate!B21) -> Cân nặng (kg)
B19: =IF($AG$1="tiếng việt",Translate!A22,Translate!B22) -> Địa chỉ thường trú (Tỉnh/Thành phố - Phường/Xã - Số phòng/Số nhà/Ngõ/Phố/Thôn/Xóm): | AG19: =IF($AG$1="tiếng việt",Translate!A24,Translate!B24) -> Số ĐT di động
B20: Phú Thọ | J20: Xã Vân Sơn
B21: =IF($AG$1="tiếng việt",Translate!A25,Translate!B25) -> Nơi ở hiện nay (Tỉnh/Thành phố - Phường/Xã - Số phòng/Số nhà/Ngõ/Phố/Thôn/Xóm): | AG21: =IF($AG$1="tiếng việt",Translate!A26,Translate!B26) -> Tình trạng hôn nhân (Độc thân/Đã lập GĐ/Ly hôn)
B23: Email | Q23: =IF($AG$1="tiếng việt",Translate!A28,Translate!B28) -> Số Căn cước/Hộ chiếu | Y23: =IF($AG$1="tiếng việt",Translate!A29,Translate!B29) -> Nơi cấp | AG23: =IF($AG$1="tiếng việt",Translate!A30,Translate!B30) -> Ngày cấp | AM23: =IF($AG$1="tiếng việt",Translate!A31,Translate!B31) -> Dân tộc
B25: =IF($AG$1="tiếng việt",Translate!A32,Translate!B32) -> Người liên hệ khẩn cấp khi cần | AG25: =IF($AG$1="tiếng việt",Translate!A33,Translate!B33) -> Số ĐT | AM25: =IF($AG$1="tiếng việt",Translate!A34,Translate!B34) -> Mối quan hệ
B27: =IF($AG$1="tiếng việt",Translate!A35,Translate!B35) -> Ngày có thể bắt đầu công việc | M27: =IF($AG$1="tiếng việt",Translate!A36,Translate!B36) -> Thời điểm liên hệ phù hợp (từ ngày - đến ngày) | AG27: =IF($AG$1="tiếng việt",Translate!A37,Translate!B37) -> Mức lương gross đề nghị
A30: 2 | B30: =IF($AG$1="tiếng việt",Translate!A38,Translate!B38) -> QUÁ TRÌNH ĐÀO TẠO (Ghi đầy đủ và chi tiết)
B31: =IF($AG$1="tiếng việt",Translate!A39,Translate!B39) -> Tên Trường đào tạo | L31: =IF($AG$1="tiếng việt",Translate!A40,Translate!B40) -> Trình độ | Q31: =IF($AG$1="tiếng việt",Translate!A41,Translate!B41) -> Chuyên ngành | Y31: =IF($AG$1="tiếng việt",Translate!A42,Translate!B42) -> Thời gian | AG31: =IF($AG$1="tiếng việt",Translate!A45,Translate!B45) -> Điểm TB | AJ31: =IF($AG$1="tiếng việt",Translate!A144,Translate!B144) -> Thang điểm | AM31: =IF($AG$1="tiếng việt",Translate!A145,Translate!B145) -> Xếp loại | AP31: =IF($AG$1="tiếng việt",Translate!A46,Translate!B46) -> Loại hình đào tạo
Y32: =IF($AG$1="tiếng việt",Translate!A43,Translate!B43) -> Thời điểm bắt đầu | AB32: - | AC32: =IF($AG$1="tiếng việt",Translate!A44,Translate!B44) -> Thời điểm tốt nghiệp
L33: =IF($AG$1="tiếng việt",Translate!A47,Translate!B47) -> PTTH
L34: =IF($AG$1="tiếng việt",Translate!A48,Translate!B48) -> Trung cấp
L35: =IF($AG$1="tiếng việt",Translate!A49,Translate!B49) -> Cao đẳng
L36: =IF($AG$1="tiếng việt",Translate!A50,Translate!B50) -> Đại học
L37: =IF($AG$1="tiếng việt",Translate!A51,Translate!B51) -> Trên ĐH
B38: =IF($AG$1="tiếng việt",Translate!A52,Translate!B52) -> Ngoại ngữ (ghi rõ khả năng sử dụng từng kỹ năng theo mức độ: Tốt - Khá - Bình thường) | U38: =IF($AG$1="tiếng việt",Translate!A53,Translate!B53) -> Nghe | AA38: =IF($AG$1="tiếng việt",Translate!A54,Translate!B54) -> Nói | AG38: =IF($AG$1="tiếng việt",Translate!A55,Translate!B55) -> Đọc | AM38: =IF($AG$1="tiếng việt",Translate!A56,Translate!B56) -> Viết
B39: =IF($AG$1="tiếng việt",Translate!A57,Translate!B57) -> Tiếng Anh
B41: =IF($AG$1="tiếng việt",Translate!A58,Translate!B58) -> Ngoại ngữ khác
B42: =IF($AG$1="tiếng việt",Translate!A59,Translate!B59) -> Chứng chỉ (nếu có) | H42: =IF($AG$1="tiếng việt",Translate!A60,Translate!B60) -> Điểm TOEIC | N42: =IF($AG$1="tiếng việt",Translate!A61,Translate!B61) -> Điểm TOEFL | T42: =IF($AG$1="tiếng việt",Translate!A62,Translate!B62) -> Điểm IELTS | Z42: =IF($AG$1="tiếng việt",Translate!A63,Translate!B63) -> Khác (ghi rõ)
B44: =IF($AG$1="tiếng việt",Translate!A153,Translate!B153)&":" -> Giải thưởng: | I44: =IF($AG$1="tiếng việt",Translate!A155,Translate!B155)&":" -> Thông tin thêm về giải thưởng: | T44: =IF($AG$1="tiếng việt",Translate!A152,Translate!B152)&":" -> Giải thưởng khác: | AI44: =IF($AG$1="tiếng việt",Translate!A154,Translate!B154)&":" -> Vai trò trong các tổ chức xã hội:
A48: 3 | B48: =IF($AG$1="tiếng việt",Translate!A65,Translate!B65) -> QUÁ TRÌNH CÔNG TÁC (Kể cả bán thời gian)
B49: =IF($AG$1="tiếng việt",Translate!A66,Translate!B66) -> Tên 03 Đơn vị công tác gần nhất | L49: =IF($AG$1="tiếng việt",Translate!A68,Translate!B68) -> Chức vụ | Q49: =IF($AG$1="tiếng việt",Translate!A69,Translate!B69) -> Thời gian | Y49: =IF($AG$1="tiếng việt",Translate!A72,Translate!B64) -> Tên/chức vụ người QL | AD49: =IF($AG$1="tiếng việt",Translate!A73,Translate!B73) -> Mảng công việc phụ trách chính | AM49: =IF($AG$1="tiếng việt",Translate!A74,Translate!B74) -> Lý do thôi việc
Q50: =IF($AG$1="tiếng việt",Translate!A70,Translate!B70) -> tháng/năm | T50: - | U50: =IF($AG$1="tiếng việt",Translate!A70,Translate!B70) -> tháng/năm
B55: =IF($AG$1="tiếng việt",Translate!A67,Translate!B67) -> Tên đơn vị công tác còn lại (nếu có) | L55: =IF($AG$1="tiếng việt",Translate!A68,Translate!B68) -> Chức vụ | Q55: =IF($AG$1="tiếng việt",Translate!A69,Translate!B69) -> Thời gian | Y55: =IF($AG$1="tiếng việt",Translate!A73,Translate!B73) -> Mảng công việc phụ trách chính
Q56: =IF($AG$1="tiếng việt",Translate!A70,Translate!B70) -> tháng/năm | T56: - | U56: =IF($AG$1="tiếng việt",Translate!A70,Translate!B70) -> tháng/năm
B60: =IF($AG$1="tiếng việt",Translate!A75,Translate!B75) -> Thành tích nổi bật trong cả quá trình công tác | AK60: =IF($AG$1="tiếng việt",Translate!A80,Translate!B80) -> Mức lương gần nhất (ghi rõ cấu phần thu nhập)
A63: 4 | B63: =IF($AG$1="tiếng việt",Translate!A81,Translate!B81) -> THÀNH PHẦN GIA ĐÌNH (Cha, Mẹ, Anh/Chị/Em ruột, Vợ/Chồng/Con)
B64: =IF($AG$1="tiếng việt",Translate!A82,Translate!B82) -> Họ và tên | L64: =IF($AG$1="tiếng việt",Translate!A83,Translate!B83) -> Quan hệ | Q64: =IF($AG$1="tiếng việt",Translate!A84,Translate!B84) -> Năm sinh | V64: =IF($AG$1="tiếng việt",Translate!A85,Translate!B85) -> Giới tính | AA64: =IF($AG$1="tiếng việt",Translate!A86,Translate!B86) -> Nghề nghiệp - Nơi làm việc
A72: 5 | B72: =IF($AG$1="tiếng việt",Translate!A87,Translate!B87) -> PHẨM CHẤT, NĂNG KHIẾU, KỸ NĂNG ĐẶC BIỆT (Liệt kê những phẩm chất, kỹ năng mà Anh/Chị có khả năng: Thể thao, Âm nhạc...)
B73: =IF($AG$1="tiếng việt",Translate!A88,Translate!B88) -> Phẩm chất, năng khiếu | L73: =IF($AG$1="tiếng việt",Translate!A89,Translate!B89) -> Kỹ năng đặc biệt | V73: =IF($AG$1="tiếng việt",Translate!A90,Translate!B90) -> Thành viên của các tổ chức xã hội, cộng đồng nước ngoài | AG73: =IF($AG$1="tiếng việt",Translate!A91,Translate!B91) -> Các bài báo, sách, công trình khoa học anh/chị đã viết
A76: 6 | B76: =IF($AG$1="tiếng việt",Translate!A92,Translate!B92) -> KHEN THƯỞNG, KỶ LUẬT
B77: =IF($AG$1="tiếng việt",Translate!A93,Translate!B93) -> Khen thưởng | X77: =IF($AG$1="tiếng việt",Translate!A95,Translate!B95) -> (Tôi cam kết chưa từng bị bắt, kết án, có hành vi chống đối pháp luật hoặc kỷ luật tính đến thời điểm này)
B78: =IF($AG$1="tiếng việt",Translate!A96,Translate!B96) -> Danh hiệu | X78: =IF($AG$1="tiếng việt",Translate!A98,Translate!B98) -> Hình thức | AM78: =IF($AG$1="tiếng việt",Translate!A99,Translate!B99) -> Thời gian
A81: 7 | B81: =IF($AG$1="tiếng việt",Translate!A100,Translate!B100) -> BẠN BIẾT THÔNG TIN TUYỂN DỤNG NÀY THÔNG QUA
B83: =IF($AG$1="tiếng việt",Translate!A163,Translate!B163) -> Bạn biết đến thông tin tuyển dụng qua nguồn: | Y83: =IF($AG$1="tiếng việt",Translate!A106,Translate!B106) -> Nguồn khác (ghi rõ)
A85: 8 | B85: =IF($AG$1="tiếng việt",Translate!A107,Translate!B107) -> NGƯỜI CÓ THỂ THAM KHẢO THÔNG TIN (CBQL trực tiếp, Thầy/Cô, đồng nghiệp…)
B86: =IF($AG$1="tiếng việt",Translate!A108,Translate!B108) -> Họ và tên | L86: =IF($AG$1="tiếng việt",Translate!A109,Translate!B109) -> Chức vụ | Q86: =IF($AG$1="tiếng việt",Translate!A110,Translate!B110) -> Đơn vị công tác | Y86: =IF($AG$1="tiếng việt",Translate!A111,Translate!B111) -> Mối quan hệ | AG86: Mobile | AM86: Email
A91: 9 | B91: =IF($AG$1="tiếng việt",Translate!A113,Translate!B113) -> BẠN VUI LÒNG CHO BIẾT NGƯỜI THÂN, BẠN BÈ ĐANG LÀM VIỆC TẠI MB HOẶC CÁC NGÂN HÀNG/TCTD KHÁC
B92: =IF($AG$1="tiếng việt",Translate!A114,Translate!B114) -> Họ và tên | L92: =IF($AG$1="tiếng việt",Translate!A115,Translate!B115) -> Chức vụ | Q92: =IF($AG$1="tiếng việt",Translate!A116,Translate!B116) -> Đơn vị công tác | Y92: =IF($AG$1="tiếng việt",Translate!A117,Translate!B117) -> Mối quan hệ | AG92: Mobile | AM92: Email
A97: 10 | B97: =IF($AG$1="tiếng việt",Translate!A119,Translate!B119) -> THÔNG TIN THAM KHẢO KHÁC
B98: =IF($AG$1="tiếng việt",Translate!A120,Translate!B120) -> Vị trí đã từng dự tuyển tại MB | L98: =IF($AG$1="tiếng việt",Translate!A121,Translate!B121) -> Thời gian | AG98: =IF($AG$1="tiếng việt",Translate!A123,Translate!B123) -> Có (ghi rõ) | AL98: =IF($AG$1="tiếng việt",Translate!A124,Translate!B124) -> Không
V99: =IF($AG$1="tiếng việt",Translate!A122,Translate!B122) -> Bạn có khiếm khuyết về ngoại hình không?
B100: =IF($AG$1="tiếng việt",Translate!A125,Translate!B125) -> Điểm mạnh | V100: =IF($AG$1="tiếng việt",Translate!A126,Translate!B126) -> Điểm cần cải thiện
B102: =IF($AG$1="tiếng việt",Translate!A127,Translate!B127) -> Lý do bạn muốn làm việc tại Ngân hàng Quân đội (MB)
B103: =IF($AG$1="tiếng việt",Translate!A133,Translate!B133) -> Lựa chọn | M103: =IF($AG$1="tiếng việt",Translate!A132,Translate!B132) -> Diễn giải
B106: =IF($AG$1="tiếng việt",Translate!A128,Translate!B128) -> Tôi xin cam đoan những thông tin cung cấp trên đây là chính xác và đầy đủ. Tôi chấp nhận việc điều tra, thẩm tra những thông tin về cá nhân trong quá trình ra quyết định tuyển dụng và cam kết hợp tác trong quá trình thẩm tra. Trường hợp có sai lệch thông tin, tôi chấp nhận thực hiện theo các quyết định của Ngân hàng Quân đội.
B107: =IF($AG$1="tiếng việt",Translate!A134,Translate!B134) -> Hãy cho chúng tôi biết nếu Bạn có khả năng đặc biệt liên quan đến excel, VBA, google sheets, phân tích dữ liệu, lập trình; các nền tảng social network, digital platform, online selling, marketing... | M107: →
B108: =IF($AG$1="tiếng việt",Translate!A129,Translate!B129) -> Ngày tạo

Sheet DT
A1: Kinh
A2: Tày
A3: Thái
A4: Mường
A5: Khmer
A6: Hoa
A7: Nùng
A8: H'Mông
A9: Dao
A10: Gia Rai
A11: Ê Đê
A12: Ba Na
... A54: Ơ Đu

Sheet Truong
A1: Cao Đẳng An Ninh Nhân Dân 1
A2: Cao Đẳng An Ninh Nhân Dân 2
A3: Cao Đẳng Asean
A4: Cao Đẳng Bách Khoa Đà Nẵng
A5: Cao Đẳng Bách Khoa Hưng Yên
A6: Cao Đẳng Bách Việt
A7: Cao Đẳng Bán Công Công Nghệ và Quản Trị Doanh Nghiệp
A8: Cao Đẳng Bến Tre
A9: Cao Đẳng Bình Định
A10: Cao Đẳng Cần Thơ
A11: Cao Đẳng Cảnh Sát Nhân Dân 1
A12: Cao đẳng Cảnh sát Nhân dân II
... A475: Viện nghiên cứu và đào tạo Việt Anh - Đại học Đà Nẵng

Sheet Translate
A1: =IF(HRRF02!AG1="Tiếng việt",1,2) -> 1 | H1: Options
A2: Tiếng Việt | B2: English | D2: DD | E2: MM | F2: YYYY
A3: THÔNG TIN ỨNG VIÊN | B3: JOB APPLICATION | D3: 01 | E3: 01 | F3: 2031
A4: Mã (Code)/SBD: | B4: Code/Registration number: | D4: 02 | E4: 02 | F4: 2030
A5: * Nhập đầy đủ các thông tin trong các ô text hiển thị trên File thông tin (nếu có) | B5: * Please fill out the display text boxes in the job application form ( if any) | D5: 03 | E5: 03 | F5: 2029
A6: * Đọc kỹ các hướng dẫn kèm theo ở mỗi câu hỏi | B6: * Carefully read instructions of each question | D6: 04 | E6: 04 | F6: 2028
A7: * Không chỉnh sửa (thêm hàng, cột) File thông tin này, MB không ghi nhận những thông tin của File đã bị sửa format | B7: * No amendments (insert row, column) in the file are allowed, MB will not certify the information in amended file. | D7: 05 | E7: 05 | F7: 2027
A8: * Những thông tin không đầy đủ sẽ không được xét duyệt | B8: * Incomplete information will be not validated. | D8: 06 | E8: 06 | F8: 2026
A9: Ảnh 3x4 | B9: Photo 3x4 | D9: 07 | E9: 07 | F9: 2025
A10: VỊ TRÍ DỰ TUYỂN | B10: EXPECTED POSITION | D10: 08 | E10: 08 | F10: 2024
A11: Nguyện vọng 1 | B11: Option 1 | D11: 09 | E11: 09 | F11: 2023
A12: Nguyện vọng 2 | B12: Option 2 | D12: 10 | E12: 10 | F12: 2022
A13: Địa điểm làm việc | B13: Expected workplace | D13: 11 | E13: 11 | F13: 2021
A14: THÔNG TIN CÁ NHÂN | B14: PERSONAL INFORMATION | D14: 12 | E14: 12 | F14: 2020
A15: Họ và tên | B15: Full name | D15: 13 | F15: 2019
A16: Tên đệm | B16: Middle name | D16: 14 | F16: 2018
A17: Tên | B17: First name | D17: 15 | F17: 2017
A18: Ngày sinh | B18: DOB | D18: 16 | F18: 2016
A19: Giới tính | B19: Gender | D19: 17 | F19: 2015 | H19: =IF($A$1=1,"Nam","Male") -> Nam | I19: =IF($A$1=1,"Nữ","Female") -> Nữ
A20: Chiều cao (cm) | B20: Height (cm) | D20: 18 | F20: 2014
A21: Cân nặng (kg) | B21: Weight (kg) | D21: 19 | F21: 2013
A22: Địa chỉ thường trú (Tỉnh/Thành phố - Phường/Xã - Số phòng/Số nhà/Ngõ/Phố/Thôn/Xóm): | B22: Permanent add (Province/City - Ward/Commune - Lane/Street- Hamlet/Room No-House No): | D22: 20 | F22: 2012
A23: Số ĐT cố định | B23: Telephone | D23: 21 | F23: 2011
A24: Số ĐT di động | B24: Mobile | D24: 22 | F24: 2010
A25: Nơi ở hiện nay (Tỉnh/Thành phố - Phường/Xã - Số phòng/Số nhà/Ngõ/Phố/Thôn/Xóm): | B25: Current add (Province/City - Ward/Commune - Lane/Street- Hamlet/Room No-House No): | D25: 23 | F25: 2009
A26: Tình trạng hôn nhân (Độc thân/Đã lập GĐ/Ly hôn) | B26: Marital status (Single/Married /Divorced) | D26: 24 | F26: 2008 | H26: =IF($A$1=1,"Độc thân","Single") -> Độc thân | I26: =IF($A$1=1,"Đã cưới","Married") -> Đã cưới | J26: =IF($A$1=1,"Ly hôn","Divorced") -> Ly hôn
A27: Email | B27: Email | D27: 25 | F27: 2007 | H27: gmai. | I27: gmail.com.vn | J27: , | L27: .con
A28: Số Căn cước/Hộ chiếu | B28: ID/ Passport Number | D28: 26 | F28: 2006
A29: Nơi cấp | B29: Place of issuance | D29: 27 | F29: 2005
A30: Ngày cấp | B30: Date of issuance | D30: 28 | F30: 2004
A31: Dân tộc | B31: Ethnic category | D31: 29 | F31: 2003
A32: Người liên hệ khẩn cấp khi cần | B32: Contact person upon emergency | D32: 30 | F32: 2002
A33: Số ĐT | B33: Phone number | D33: 31 | F33: 2001
A34: Mối quan hệ | B34: Relationship | F34: 2000
A35: Ngày có thể bắt đầu công việc | B35: Possible start date | F35: 1999
A36: Thời điểm liên hệ phù hợp (từ ngày - đến ngày) | B36: Appropriate contacting time (from - to) | F36: 1998
A37: Mức lương gross đề nghị | B37: Expecting gross salary | F37: 1997
A38: QUÁ TRÌNH ĐÀO TẠO (Ghi đầy đủ và chi tiết) | B38: EDUCATION HISTORY (Sufficient information in details) | F38: 1996
A39: Tên Trường đào tạo | B39: School/ Training Unit | F39: 1995
A40: Trình độ | B40: Level | F40: 1994 | H40: =IF($A$1=1,"PTTH","Highschool") -> PTTH | I40: =IF($A$1=1,"Trung cấp","Vocational school") -> Trung cấp | J40: =IF($A$1=1,"Cao đẳng","College") -> Cao đẳng | K40: =IF($A$1=1,"Đại học","University") -> Đại học | L40: =IF($A$1=1,"Trên ĐH","Post graduate") -> Trên ĐH
A41: Chuyên ngành | B41: Major | F41: 1993
A42: Thời gian | B42: Period | F42: 1992
A43: Thời điểm bắt đầu | B43: from | F43: 1991
A44: Thời điểm tốt nghiệp | B44: to | F44: 1990
A45: Điểm TB | B45: GPA | F45: 1989
A46: Loại hình đào tạo | B46: System | F46: 1988
A47: PTTH | B47: Highschool | F47: 1987
A48: Trung cấp | B48: Vocational school | F48: 1986
A49: Cao đẳng | B49: College | F49: 1985
A50: Đại học | B50: University | F50: 1984
A51: Trên ĐH | B51: Post graduate | F51: 1983
A52: Ngoại ngữ (ghi rõ khả năng sử dụng từng kỹ năng theo mức độ: Tốt - Khá - Bình thường) | B52: Foreign languages (clearly present your proficiency level: Good - Fairly good - Average) | F52: 1982 | H52: =IF($A$1=1,"Tốt","Great") -> Tốt | I52: =IF($A$1=1,"Khá","Good") -> Khá | J52: =IF($A$1=1,"Trung bình","Fair") -> Trung bình | K52: =IF($A$1=1,"Kém","Weak") -> Kém | L52: =IF($A$1=1,"Không có","None") -> Không có
A53: Nghe | B53: Listening | F53: 1981
A54: Nói | B54: Speaking | F54: 1980
A55: Đọc | B55: Reading | F55: 1979
A56: Viết | B56: Writing | F56: 1978
A57: Tiếng Anh | B57: English | F57: 1977
A58: Ngoại ngữ khác | B58: Other languages | F58: 1976
A59: Chứng chỉ (nếu có) | B59: Certificate ( if any) | F59: 1975
A60: Điểm TOEIC | B60: TOEIC score | F60: 1974
A61: Điểm TOEFL | B61: TOEFL score | F61: 1973
A62: Điểm IELTS | B62: IELTS score | F62: 1972
A63: Khác (ghi rõ) | B63: Other ( please specify) | F63: 1971
A64: Ngày thi | B64: Exam date | F64: 1970
... A80: Mức lương gần nhất (ghi rõ cấu phần thu nhập) | B80: The most recent salary: | F80: 1954
A81: THÀNH PHẦN GIA ĐÌNH (Cha, Mẹ, Anh/Chị/Em ruột, Vợ/Chồng/Con) | B81: FAMILY INFORMATION (Father, Mother, Brothers and sisters, Spouse /Children) | F81: 1953 | H81: =IF($A$1=1,"Cha","Father") -> Cha | I81: =IF($A$1=1,"Mẹ","Mother") -> Mẹ | J81: =IF($A$1=1,"Anh/Em trai","Brother") -> Anh/Em trai | K81: =IF($A$1=1,"Chị/Em gái","Sister") -> Chị/Em gái | L81: =IF($A$1=1,"Vợ/Chồng","Spouse") -> Vợ/Chồng | M81: =IF($A$1=1,"Con","Childen") -> Con
A82: Họ và tên | B82: Full name | F82: 1952
A83: Quan hệ | B83: Relation | F83: 1951
A84: Năm sinh | B84: Year of birth | F84: 1950
A85: Giới tính | B85: Gender | F85: 1949
A86: Nghề nghiệp - Nơi làm việc | B86: Career- Workplace | F86: 1948
A87: PHẨM CHẤT, NĂNG KHIẾU, KỸ NĂNG ĐẶC BIỆT (Liệt kê những phẩm chất, kỹ năng mà Anh/Chị có khả năng: Thể thao, Âm nhạc...) | B87: PARTICULAR CAPABILITIES, APTITUDES, SKILLS (Please make a list of your capabilities, skills on sports, music ...) | F87: 1947
A88: Phẩm chất, năng khiếu | B88: Capabilities, aptitudes | F88: 1946
A89: Kỹ năng đặc biệt | B89: Particular skills | F89: 1945
A90: Thành viên của các tổ chức xã hội, cộng đồng nước ngoài | B90: Member of social organizations, foreign communities | F90: 1944
A91: Các bài báo, sách, công trình khoa học anh/chị đã viết | B91: Articles, books, researches you have written | F91: 1943
A92: KHEN THƯỞNG, KỶ LUẬT | B92: COMMENDATION AND DISCIPLINE | F92: 1942
A93: Khen thưởng | B93: Commendation | F93: 1941
... A100: BẠN BIẾT THÔNG TIN TUYỂN DỤNG NÀY THÔNG QUA | B100: HOW DO YOU KNOW ABOUT THIS RECRUITMENT? | F100: 1934
A101: Website tuyển dụng của MB | B101: Website Recruitment MBBank | F101: 1933 | H101: =IF($A$1=1,Translate!A101,Translate!B101) -> Website tuyển dụng của MB | I101: =IF($A$1=1,Translate!A102,Translate!B102) -> Fanpage Tuyển dụng MBBank | J101: =IF($A$1=1,Translate!A103,Translate!B104) -> Cán bộ nhân viên MB giới thiệu | K101: =IF($A$1=1,Translate!A105,Translate!B105) -> Bạn bè/Người thân | L101: =IF($A$1=1,$A156,$B156) -> LinkedIn | M101: =IF($A$1=1,$A157,$B157) -> Vietnamwork | N101: =IF($A$1=1,$A158,$B158) -> TopCV | O101: =IF($A$1=1,$A159,$B159) -> TopDev | P101: =IF($A$1=1,$A160,$B160) -> ITViec | Q101: =IF($A$1=1,$A161,$B161) -> YBox | R101: =IF($A$1=1,$A162,$B162) -> CareerBuilder | S101: =IF($A$1=1,A106,B106) -> Nguồn khác (ghi rõ)
A102: Fanpage Tuyển dụng MBBank | B102: Fanpage Recruitment MBBank | F102: 1932
A103: Cán bộ nhân viên MB giới thiệu | B103: MBer introduced | F103: 1931
A104: Mạng xã hội | B104: Social networking | F104: 1930
A105: Bạn bè/Người thân | B105: Friends/ relatives | F105: 1929
A106: Nguồn khác (ghi rõ) | B106: Other sources ( please specify) | F106: 1928
A107: NGƯỜI CÓ THỂ THAM KHẢO THÔNG TIN (CBQL trực tiếp, Thầy/Cô, đồng nghiệp…) | B107: REFERENCES (Line Managers, Teachers, Colleagues…) | F107: 1927
A108: Họ và tên | B108: Full name | F108: 1926
A109: Chức vụ | B109: Position | F109: 1925
A110: Đơn vị công tác | B110: Unit | F110: 1924
A111: Mối quan hệ | B111: Relation | F111: 1923
A112: Mobile/Email | B112: Mobile/Email | F112: 1922
A113: BẠN VUI LÒNG CHO BIẾT NGƯỜI THÂN, BẠN BÈ ĐANG LÀM VIỆC TẠI MB HOẶC CÁC NGÂN HÀNG/TCTD KHÁC | B113: DO YOU HAVE ANY FRIENDS/ RELATIVES WORKING IN MB OR OTHER BANKS/ CREDIT INSTITUTIONS? | F113: 1921
A114: Họ và tên | B114: Full name
A115: Chức vụ | B115: Position
A116: Đơn vị công tác | B116: Unit
A117: Mối quan hệ | B117: Relation
A118: Mobile/Email | B118: Mobile/Email
A119: THÔNG TIN THAM KHẢO KHÁC | B119: OTHER INFORMATION FOR REFERENCE
A120: Vị trí đã từng dự tuyển tại MB | B120: Previous applied position
A121: Thời gian | B121: Time
...

Sheet Province
A2: Tỉnh | B2: Quận/Huyện
A3: An Giang | B3: Xã Sơn Hải | C3: Bộ Công an | D3: Bộ Công an
A4: An Giang | B4: Xã Hòn Nghệ | C4: Cục Cảnh Sát quản lý hành chính về trật tự xã hội | D4: Cục Cảnh Sát quản lý hành chính về trật tự xã hội
A5: An Giang | B5: Xã Giang Thành | C5: Cục Cảnh sát ĐKQL cư trú và DLQG về dân cư | D5: Cục Cảnh sát ĐKQL cư trú và DLQG về dân cư
A6: An Giang | B6: Xã Vĩnh Điều | C6: An Giang | D6: An Giang
A7: An Giang | B7: Xã Hòn Đất | C7: Bắc Ninh | D7: Bà Rịa - Vũng Tàu
A8: An Giang | B8: Xã Sơn Kiên | C8: Cà Mau | D8: Bắc Kạn
A9: An Giang | B9: Xã Mỹ Thuận | C9: Cao Bằng | D9: Bắc Giang
A10: An Giang | B10: Xã Bình Sơn | C10: Cần Thơ | D10: Bạc Liêu
A11: An Giang | B11: Xã Bình Giang | C11: Đà Nẵng | D11: Bắc Ninh
A12: An Giang | B12: Xã Tân Hội | C12: Đắk Lắk | D12: Bến Tre
A13: An Giang | B13: Xã Tân Hiệp | C13: Điện Biên | D13: Bình Định
A14: An Giang | B14: Xã Thạnh Đông | C14: Đồng Nai | D14: Bình Dương
... A39: An Giang | B39: Phường Tô Châu | C39: Vĩnh Long | D39: Kon Tum
A40: An Giang | B40: Xã Tiên Hải | D40: Lai Châu
A41: An Giang | B41: Xã U Minh Thượng | D41: Lâm Đồng
A42: An Giang | B42: Xã Định Hòa | D42: Lạng Sơn
A43: An Giang | B43: Xã Phú Hòa | D43: Lào Cai
A44: An Giang | B44: Xã Vĩnh Hòa Hưng | D44: Long An
A45: An Giang | B45: Xã Hòa Điền | D45: Nam Định
A46: An Giang | B46: Xã Bình Hòa | D46: Nghệ An
A47: An Giang | B47: Xã Mỹ Hòa Hưng | D47: Ninh Bình
A48: An Giang | B48: Xã Hòa Lạc | D48: Ninh Thuận
A49: An Giang | B49: Xã Vĩnh Hòa | D49: Phú Thọ
A50: An Giang | B50: Xã Hòa Hưng | D50: Phú Yên
A51: An Giang | B51: Xã Đông Hòa | D51: Quảng Bình
... A95: An Giang | B95: Xã Cần Đăng | D95: Cục Quản lý Xuất nhập cảnh
A96: An Giang | B96: Xã Vĩnh Hanh
A97: An Giang | B97: Xã Vĩnh An
A98: An Giang | B98: Xã Thoại Sơn
A99: An Giang | B99: Xã Óc Eo
A100: An Giang | B100: Xã Định Mỹ
A101: An Giang | B101: Xã Vĩnh Trạch
A102: An Giang | B102: Xã Tây Phú
A103: An Giang | B103: Phường Vĩnh Thông
A104: An Giang | B104: Phường Rạch Giá
A105: An Giang | B105: Xã Kiên Lương
A106: Bắc Ninh | B106: Xã Yên Phong
A107: Bắc Ninh | B107: Xã Văn Môn
... A3343: Vĩnh Long | B3343: Xã Phước Long
